BEGIN:VCALENDAR
VERSION:2.0
PRODID:-//Entrustdn.eu - ECPv6.15.20//NONSGML v1.0//EN
CALSCALE:GREGORIAN
METHOD:PUBLISH
X-WR-CALNAME:Entrustdn.eu
X-ORIGINAL-URL:https://entrustdn.eu
X-WR-CALDESC:Events for Entrustdn.eu
REFRESH-INTERVAL;VALUE=DURATION:PT1H
X-Robots-Tag:noindex
X-PUBLISHED-TTL:PT1H
BEGIN:VTIMEZONE
TZID:UTC
BEGIN:STANDARD
TZOFFSETFROM:+0000
TZOFFSETTO:+0000
TZNAME:UTC
DTSTART:20220101T000000
END:STANDARD
END:VTIMEZONE
BEGIN:VEVENT
DTSTART;TZID=UTC:20230228T000000
DTEND;TZID=UTC:20230228T000000
DTSTAMP:20260419T232953
CREATED:20230222T202109Z
LAST-MODIFIED:20230222T202109Z
UID:657-1677542400-1677542400@entrustdn.eu
SUMMARY:D5.7 - Project Website
DESCRIPTION:
URL:https://entrustdn.eu/event/d5-7-project-website-2/
LOCATION:NUIM\, Ireland
CATEGORIES:Deliverables
END:VEVENT
BEGIN:VEVENT
DTSTART;TZID=UTC:20230228T000000
DTEND;TZID=UTC:20230228T000000
DTSTAMP:20260419T232953
CREATED:20230222T202109Z
LAST-MODIFIED:20230222T202109Z
UID:658-1677542400-1677542400@entrustdn.eu
SUMMARY:D6.2 - Supervisory Board of the network
DESCRIPTION:
URL:https://entrustdn.eu/event/d6-2-supervisory-board-of-the-network-2/
LOCATION:NUIM\, Ireland
CATEGORIES:Deliverables
END:VEVENT
END:VCALENDAR